BEGIN:VCALENDAR
VERSION:2.0
PRODID:-//Micado IT-Solutions//WebManager//IT
METHOD:PUBLISH
BEGIN:VEVENT
UID:tsr10484@www.kufstein.com
DTSTART:20260424T100000
DTEND:20260424T150000
SUMMARY:Leggendaria felicità in vetta al Pendling
DESCRIPTION:<p>Ci arrampichiamo sulla nostra imponente montagna di casa, alta ben 1.563 metri. Questa montagna può essere scalata anche da soli, ma la nostra guida escursionistica Harald trasforma questa esperienza in un'avventura montana speciale. Condivide storie affascinanti sull'evoluzione geologica e sul mondo affascinante delle leggende della montagna. Dalla croce di vetta godiamo di una vista spettacolare sulla valle dell'Inn fino al Kaisergebirge e persino fino al Großglockner, quando le condizioni sono ideali. Dopo la scalata ci premiamo con un sostanzioso spuntino o un delizioso arrosto di maiale al "Pendlinghaus". È richiesta sicurezza nei passi e buone scarpe per questa escursione in vetta!</p>
LOCATION:Parkplatz Gasthof Schneeberg Thiersee, Thiersee
END:VEVENT
END:VCALENDAR
