BEGIN:VCALENDAR
VERSION:2.0
PRODID:-//Micado IT-Solutions//WebManager//IT
METHOD:PUBLISH
BEGIN:VEVENT
UID:tsr11660@www.kufstein.com
DTSTART:20260421T160000
DTEND:20260421T180000
SUMMARY:Degustazione di whisky tirolese, rum, gin e acquaviti pregiate
DESCRIPTION:Vivi la varietà di nobili distillati in una degustazione nell'idilliaca Distilleria Crownhill a Schwoich. Prova cinque selezionati assaggi della produzione interna: grappe, rum, whisky, gin e liquori. Il distillatore e sommelier di grappe Manfred Höck ti guiderà attraverso il programma e ti darà interessanti approfondimenti sulla produzione. Avrai anche accesso esclusivo alla cantina, dove i nobili whisky, rum e grappe invecchiano in botti di legno. Circondato dalla natura della tradizionale fattoria, ti aspetta un'esperienza per tutti i sensi!
LOCATION:Crownhill Destillerie Schwoich, Schwoich
END:VEVENT
END:VCALENDAR
