BEGIN:VCALENDAR
VERSION:2.0
PRODID:-//Micado IT-Solutions//WebManager//IT
METHOD:PUBLISH
BEGIN:VEVENT
UID:tsr12398@www.kufstein.com
DTSTART:20260422T100000
DTEND:20260422T140000
SUMMARY:Auf blühenden Wegen zum Genuss – Sommerwanderung am Niederndorferberg
DESCRIPTION:Una passeggiata estiva al Niederndorferberg unisce esperienza nella natura e creatività. Su sentieri ben percorribili, l'escursione attraversa prati fioriti, boschi ombrosi e offre ripetutamente ampie vedute sul mondo montano circostante. Il cinguettio degli uccelli, il profumo della natura e l'aria calda estiva creano un'atmosfera speciale. A seguire, il caffè <strong>Koasazeit</strong> invita a una sosta accogliente. Un momento culminante è la preparazione insieme di un piccolo spuntino.
LOCATION:Auf blühenden Wegen zum Genuss – Sommerwanderung a, Niederndorferberg
END:VEVENT
END:VCALENDAR
