BEGIN:VCALENDAR
VERSION:2.0
PRODID:-//Micado IT-Solutions//WebManager//IT
METHOD:PUBLISH
BEGIN:VEVENT
UID:tsr11238@www.kufstein.com
DTSTART:20260420T100000
DTEND:20260420T150000
SUMMARY:Un'escursione circolare alla cappella di Thierberg
DESCRIPTION:<p>Il sentiero verso la cappella Thierberg attraversa un affascinante paesaggio montano con boschi silenziosi, prati fioriti e ampie vedute. Passo dopo passo si percepisce la tranquillità e l’originalità della natura, fino a quando, una volta arrivati, il particolare incanto del Thierberg si svela.<br>La piccola cappella di pellegrinaggio troneggia sopra la valle, circondata da alberi secolari e un'atmosfera di silenzio. Dalla torre del castello si può godere di un'imponente panoramica sul Kufsteinerland – un luogo che invita a sostare, fermarsi e meravigliarsi.</p>
LOCATION:Hechtsee Parkplatz, Kufstein
END:VEVENT
END:VCALENDAR
