BEGIN:VCALENDAR
VERSION:2.0
PRODID:-//Micado IT-Solutions//WebManager//IT
METHOD:PUBLISH
BEGIN:VEVENT
UID:tsr12715@www.kufstein.com
DTSTART:20260427T110000
SUMMARY:Öffentliche Führung in der Riedel Glas Manufaktur
DESCRIPTION:Visite guidate pubbliche:&nbsp;<strong>11:00 e 13:30, solo LU-VE</strong>&nbsp;<br><br>(Punto d'incontro: 5 minuti prima sotto la piramide di vetro)<br>Per visite guidate individuali/private (minimo 10 persone, solo LU-VE) vi preghiamo di contattare&nbsp;sinnfonie@riedel.com.
LOCATION:RIEDEL Manufaktur & Museum, Kufstein
END:VEVENT
END:VCALENDAR
