BEGIN:VCALENDAR
VERSION:2.0
PRODID:-//Micado IT-Solutions//WebManager//IT
METHOD:PUBLISH
BEGIN:VEVENT
UID:tsr12699@www.kufstein.com
DTSTART:20260501T100000
SUMMARY:Kulturfest
DESCRIPTION:<p>Invito alla nostra kermesse internazionale! Cari amici e ospiti, vi invitiamo calorosamente alla nostra speciale kermesse! Scoprite la varietà della cultura turca e godetevi soprattutto le deliziose specialità turche con prelibatezze tradizionali e fatte in casa. Non vediamo l'ora di offrirvi anche: - Giochi &amp; divertimenti per bambini - Vari stand e attrazioni - Una fantastica esperienza per tutta la famiglia Venite a trovarci, portate i vostri amici e trascorrete una splendida giornata con noi!</p> <ul> <li>Data: 1–3 maggio</li> <li>Luogo: Eichelwang 2, 6341 Ebbs – HÖDNERHOF</li> <li>Orario: 10:00 – 20:00 Ci fa piacere vedervi!</li></ul>
LOCATION:Arena Erlebnisgärtnerei Hödnerhof, Ebbs
END:VEVENT
END:VCALENDAR
