BEGIN:VCALENDAR
VERSION:2.0
PRODID:-//Micado IT-Solutions//WebManager//IT
METHOD:PUBLISH
BEGIN:VEVENT
UID:tsr11217@www.kufstein.com
DTSTART:20260423T103000
DTEND:20260423T143000
SUMMARY:Incontro erboristico con Maria Bachmann
DESCRIPTION:<p>All'Aschingeralm ai piedi del Zahmen Kaiser, esplori con l'esperta di erbe Maria il mondo delle piante selvatiche e delle erbe medicinali. Qui sull'alpe, le erbe liberano la loro particolare forza. Durante una leggera escursione, impari antiche conoscenze sulle erbe medicinali e scopri di più sulla magia degli alberi e sul significato dell'acqua. Successivamente, lavori alcune profumate erbe per creare un delizioso sale alle erbe verdi.</p>
LOCATION:Aschinger Alm Ebbs, Ebbs
END:VEVENT
END:VCALENDAR
