BEGIN:VCALENDAR
VERSION:2.0
PRODID:-//Micado IT-Solutions//WebManager//IT
METHOD:PUBLISH
BEGIN:VEVENT
UID:tsr11665@www.kufstein.com
DTSTART:20260421T160000
DTEND:20260421T180000
SUMMARY:Escursione alle erbe secondo Hildegard von Bingen
DESCRIPTION:<p>Molte piccole piante, quasi invisibili, ci accompagnano durante la nostra passeggiata lungo il bordo dei prati e dei sentieri. Quali di esse sono preziose per noi e possono addirittura renderci felici? Lo scopriremo durante questa passeggiata con l'esperta di erbe Maria. Il momento culminante finale per tutti gli amanti delle erbe è la visita al "Giardino delle Erbe di Hildegard von Bingen". Questa nota badessa del Medioevo ha lasciato un grande tesoro di conoscenze sulle erbe. Maria ci farà partecipare volentieri a tutto ciò.</p>
LOCATION:Kurpark Bad Häring, Bad Häring
END:VEVENT
END:VCALENDAR
